BEGIN:VCALENDAR
VERSION:2.0
PRODID:icalendar-ruby
CALSCALE:GREGORIAN
METHOD:PUBLISH
BEGIN:VEVENT
DTSTAMP:20260421T193206Z
UID:6-275270@sa-umc.org
DTSTART:20261025T154500Z
DTEND:20261025T164500Z
CLASS:PUBLIC
CREATED:20260421T123817
DESCRIPTION:
LAST-MODIFIED:20260421T123817
LOCATION:
SUMMARY:Sunday Worship
URL;VALUE=URI:https://sa-umc.org/events/sunday-worship--6/2026-10-25
ATTACH;FILENAME=plain%282%29.png;FMTTYPE=image/png:https://dq5pwpg1q8ru0.cl
 oudfront.net/2025/06/12/16/13/14/c80b48a2-dfa9-4f47-87f0-f5996da40387/plai
 n%25282%2529.png
END:VEVENT
END:VCALENDAR
