BEGIN:VCALENDAR
VERSION:2.0
PRODID:icalendar-ruby
CALSCALE:GREGORIAN
METHOD:PUBLISH
BEGIN:VEVENT
DTSTAMP:20260421T163746Z
UID:6-275125@sa-umc.org
DTSTART:20261011T154500Z
DTEND:20261011T164500Z
CLASS:PUBLIC
CREATED:20260421T095757
DESCRIPTION:
LAST-MODIFIED:20260421T095757
LOCATION:
SUMMARY:Sunday Worship
URL;VALUE=URI:https://sa-umc.org/events/sunday-worship--6/2026-10-11
ATTACH;FILENAME=plain%282%29.png;FMTTYPE=image/png:https://dq5pwpg1q8ru0.cl
 oudfront.net/2025/06/12/16/13/14/c80b48a2-dfa9-4f47-87f0-f5996da40387/plai
 n%25282%2529.png
END:VEVENT
END:VCALENDAR
